BEGIN:VCALENDAR
VERSION:2.0
CALSCALE:GREGORIAN
METHOD:PUBLISH
PRODID://CRAN//207468
BEGIN:VEVENT
DTSTAMP:20260421T044114
VTIMEZONE:America/New_York
DTSTART:20260618T170000Z
DTEND:20260618T180000Z
UID:207468
SUMMARY:Member to Member Virtual Round Table via Zoom
LOCATION:Crane Certification Association of America, 2045 West Grand Ave., Suite B, Chicago, IL, 60608-1577
DESCRIPTION:Member to Member Virtual Round Table via Zoom\n\n06/18/26 01:00 PM EST\n - 06/18/26 02:00 PM EST\Description:\nMember to Member Round Table\Location:\nCrane Certification Association of America\n2045 West Grand Ave., Suite B\nChicago, IL 60608-1577
X-ALT-DESC;FMTTYPE=text/html:Member to Member Virtual Round Table via Zoom<br /><br />06/18/26 01:00 PM EST - 06/18/26 02:00 PM EST<br />Description:<br />Member to Member Round Table<br />Location:<br />Crane Certification Association of America<br />2045 West Grand Ave., Suite B<br />Chicago, IL 60608-1577
PRIORITY:3
TRANSP:TRANSPARENT
BEGIN:VALARM
TRIGGER:-PT5M
ACTION:DISPLAY
DESCRIPTION:Reminder
END:VALARM
END:VEVENT
END:VCALENDAR
